BEGIN:VCALENDAR
VERSION:2.0
PRODID:-//Harbor City - South Bay 360 - ECPv6.15.20//NONSGML v1.0//EN
CALSCALE:GREGORIAN
METHOD:PUBLISH
X-WR-CALNAME:Harbor City - South Bay 360
X-ORIGINAL-URL:https://harborcity.southbaycheer360.com
X-WR-CALDESC:Events for Harbor City - South Bay 360
REFRESH-INTERVAL;VALUE=DURATION:PT1H
X-Robots-Tag:noindex
X-PUBLISHED-TTL:PT1H
BEGIN:VTIMEZONE
TZID:UTC
BEGIN:STANDARD
TZOFFSETFROM:+0000
TZOFFSETTO:+0000
TZNAME:UTC
DTSTART:20240101T000000
END:STANDARD
END:VTIMEZONE
BEGIN:VEVENT
DTSTART;TZID=UTC:20250922T160000
DTEND;TZID=UTC:20250922T180000
DTSTAMP:20260421T095534
CREATED:20250916T202536Z
LAST-MODIFIED:20250916T203109Z
UID:263-1758556800-1758564000@harborcity.southbaycheer360.com
SUMMARY:Novice Team Clinic
DESCRIPTION:[vc_row][vc_column][vc_single_image image=”264″ img_size=”full” alignment=”center” css=””][vc_empty_space][/vc_column][/vc_row][vc_row][vc_column][vc_column_text css=””]Join us for a fun\, high-energy clinic designed for furture novice athletes! Meet the coaches\, learn a dance\, stunts\, motions\, and jumps – and get evaluated for team placements. \nDate: 9/22/2025\nTime: 4:00 – 6:00 pm\nCost: $75 (Includes 360 Sports Bra)[/vc_column_text][vc_empty_space][/vc_column][/vc_row][vc_row][vc_column][vc_button title=”Register Now” target=”_blank” full_width=”true” href=”https://portal.iclasspro.com/southbaycheer360/camp-details/331?typeId=4&filters=%7B%22sorting%22:%22name%22%7D&campTypeName=Team%20Tryout&campTypeNamePlural=Team%20Tryouts”][vc_empty_space][/vc_column][/vc_row]
URL:https://harborcity.southbaycheer360.com/event/novice-team-clinic/
CATEGORIES:Upcoming Events
ATTACH;FMTTYPE=image/jpeg:https://harborcity.southbaycheer360.com/wp-content/uploads/sites/3/2025/09/novice-team-clinic-1.jpg
END:VEVENT
END:VCALENDAR